BEGIN:VCALENDAR
VERSION:2.0
PRODID:-//Adéclic Formation | Formations professionnelles en management, communication &amp; leadership - ECPv6.15.20//NONSGML v1.0//EN
CALSCALE:GREGORIAN
METHOD:PUBLISH
X-WR-CALNAME:Adéclic Formation | Formations professionnelles en management, communication &amp; leadership
X-ORIGINAL-URL:https://adeclic-formation.fr
X-WR-CALDESC:Évènements pour Adéclic Formation | Formations professionnelles en management, communication &amp; leadership
REFRESH-INTERVAL;VALUE=DURATION:PT1H
X-Robots-Tag:noindex
X-PUBLISHED-TTL:PT1H
BEGIN:VTIMEZONE
TZID:UTC
BEGIN:STANDARD
TZOFFSETFROM:+0000
TZOFFSETTO:+0000
TZNAME:UTC
DTSTART:20240101T000000
END:STANDARD
END:VTIMEZONE
BEGIN:VEVENT
DTSTART;VALUE=DATE:20251127
DTEND;VALUE=DATE:20251128
DTSTAMP:20260422T110045
CREATED:20250505T204350Z
LAST-MODIFIED:20250505T204350Z
UID:96764-1764201600-1764287999@adeclic-formation.fr
SUMMARY:Facilitation visuelle
DESCRIPTION:Dans notre ère qui nous bombarde d’informations il est parfois utile de simplifier les messages à l’aide d’éléments graphiques et faire concurrence aux présentations Power Point habituelles. \nObjectifs : \nAnimer des réunions\, présentations\, atelier ou formation de manière rapide\, ludique et compréhensible \nUtiliser « la boîte à outils » de la facilitation graphique \nIntégrer les techniques de facilitation graphique \nDurée : 1 jours – 7 heures\nModalité : En distanciel ou présentiel\nFinancement : OPCO\nProchaine session :\nhttps://adeclic.catalogueformpro.com/0/categorie-1/2225952/les-bases-de-la-facilitation-graphique-dynamisez-vos-prises-de-parole-et-de-notes \nCatégorie :Communication & Intelligence Émotionnelle
URL:https://adeclic-formation.fr/calendrier/facilitation-visuelle-2
END:VEVENT
END:VCALENDAR